BEGIN:VCALENDAR
VERSION:2.0
PRODID:-//Up Holland Parish Council//Meeting Calendar//EN
CALSCALE:GREGORIAN
METHOD:PUBLISH
BEGIN:VEVENT
UID:70512-20250513@uphollandpc.gov.uk
DTSTAMP:20260425T114644Z
DTSTART;VALUE=DATE:20250513
DTEND;VALUE=DATE:20250514
SUMMARY:Annual Council Meeting – 13 May 2025
DESCRIPTION:Annual Parish Meeting\nView details: https://uphollandpc.gov.uk/meetings/annual-council-meeting-13-may-2025/
URL:https://uphollandpc.gov.uk/meetings/annual-council-meeting-13-may-2025/
END:VEVENT
END:VCALENDAR
